BEGIN:VCALENDAR
VERSION:2.0
PRODID:-//Dubai Chess &amp; Culture Club - ECPv6.15.20//NONSGML v1.0//EN
CALSCALE:GREGORIAN
METHOD:PUBLISH
X-ORIGINAL-URL:https://www.dubaichess.ae
X-WR-CALDESC:Events for Dubai Chess &amp; Culture Club
REFRESH-INTERVAL;VALUE=DURATION:PT1H
X-Robots-Tag:noindex
X-PUBLISHED-TTL:PT1H
BEGIN:VTIMEZONE
TZID:Asia/Dubai
BEGIN:STANDARD
TZOFFSETFROM:+0400
TZOFFSETTO:+0400
TZNAME:+04
DTSTART:20230101T000000
END:STANDARD
END:VTIMEZONE
BEGIN:VEVENT
DTSTART;VALUE=DATE:20240319
DTEND;VALUE=DATE:20240321
DTSTAMP:20260420T225443
CREATED:20240206T154717Z
LAST-MODIFIED:20240318T171327Z
UID:10000091-1710806400-1710979199@www.dubaichess.ae
SUMMARY:Ramadan Blitz Teams Chess Tournament 2024
DESCRIPTION:Dubai Chess & Culture Club is pleased to invite you to participate at Ramadan Blitz Teams Chess Tournament 2024\, \nwhich will be held at Dubai Chess Club 19th ~ 20th March 2024. \nRegulations  LINK\nRegistration LINK \nRegistration Deadline Friday 15th March 2024 at 21:00
URL:https://www.dubaichess.ae/event/ramadan-blitz-teams-chess-tournament-2024/
LOCATION:Dubai Chess & Culture Club\, Gate 8\, Street No. 44\, AL Wuhaida Road Community 134 in Al Mamzar\, Dubai\, UAE\, Dubai\, 11354\, United Arab Emirates
CATEGORIES:Tournaments,Tournaments
ATTACH;FMTTYPE=image/jpeg:https://www.dubaichess.ae/wp-content/uploads/2023/04/334379406_1189158255108202_8117532760731309116_n.jpg
GEO:25.3182034;55.3378531
X-APPLE-STRUCTURED-LOCATION;VALUE=URI;X-ADDRESS=Dubai Chess & Culture Club Gate 8 Street No. 44 AL Wuhaida Road Community 134 in Al Mamzar Dubai UAE Dubai 11354 United Arab Emirates;X-APPLE-RADIUS=500;X-TITLE=Gate 8\, Street No. 44\, AL Wuhaida Road Community 134 in Al Mamzar\, Dubai\, UAE:geo:55.3378531,25.3182034
END:VEVENT
END:VCALENDAR